BEGIN:VCALENDAR
VERSION:2.0
PRODID:-//Johnny G Motorsports - ECPv6.15.20//NONSGML v1.0//EN
CALSCALE:GREGORIAN
METHOD:PUBLISH
X-WR-CALNAME:Johnny G Motorsports
X-ORIGINAL-URL:https://johnnygreaves.com
X-WR-CALDESC:Events for Johnny G Motorsports
REFRESH-INTERVAL;VALUE=DURATION:PT1H
X-Robots-Tag:noindex
X-PUBLISHED-TTL:PT1H
BEGIN:VTIMEZONE
TZID:America/Chicago
BEGIN:DAYLIGHT
TZOFFSETFROM:-0600
TZOFFSETTO:-0500
TZNAME:CDT
DTSTART:20250309T080000
END:DAYLIGHT
BEGIN:STANDARD
TZOFFSETFROM:-0500
TZOFFSETTO:-0600
TZNAME:CST
DTSTART:20251102T070000
END:STANDARD
BEGIN:DAYLIGHT
TZOFFSETFROM:-0600
TZOFFSETTO:-0500
TZNAME:CDT
DTSTART:20260308T080000
END:DAYLIGHT
BEGIN:STANDARD
TZOFFSETFROM:-0500
TZOFFSETTO:-0600
TZNAME:CST
DTSTART:20261101T070000
END:STANDARD
BEGIN:DAYLIGHT
TZOFFSETFROM:-0600
TZOFFSETTO:-0500
TZNAME:CDT
DTSTART:20270314T080000
END:DAYLIGHT
BEGIN:STANDARD
TZOFFSETFROM:-0500
TZOFFSETTO:-0600
TZNAME:CST
DTSTART:20271107T070000
END:STANDARD
END:VTIMEZONE
BEGIN:VEVENT
DTSTART;VALUE=DATE:20260501
DTEND;VALUE=DATE:20260504
DTSTAMP:20260424T072818
CREATED:20240913T174242Z
LAST-MODIFIED:20251105T203556Z
UID:4871-1777593600-1777852799@johnnygreaves.com
SUMMARY:Show-Me Off-Road Shoot-Out
DESCRIPTION:
URL:https://johnnygreaves.com/event/show-me-off-road-shoot-out/
LOCATION:Lucas Oil Speedway\, 18842 Speedway Dr\, Wheatland\, MO\, 65779\, United States
CATEGORIES:2026 Race Schedule
ATTACH;FMTTYPE=image/png:https://johnnygreaves.com/wp-content/uploads/2025/01/2026_COR_SCHEDULE_TILE_01_WHEATLAND.png
END:VEVENT
BEGIN:VEVENT
DTSTART;VALUE=DATE:20260529
DTEND;VALUE=DATE:20260601
DTSTAMP:20260424T072818
CREATED:20231106T235129Z
LAST-MODIFIED:20251105T203511Z
UID:4494-1780012800-1780271999@johnnygreaves.com
SUMMARY:Antigo Off-Road National
DESCRIPTION:
URL:https://johnnygreaves.com/event/antigo-off-road-national-2/
LOCATION:Antigo Racing\, 1633 Neva Rd\, Antigo\, WI\, 54409\, United States
CATEGORIES:2026 Race Schedule
ATTACH;FMTTYPE=image/png:https://johnnygreaves.com/wp-content/uploads/2025/01/2026_COR_SCHEDULE_TILE_02_ANTIGO.png
END:VEVENT
BEGIN:VEVENT
DTSTART;VALUE=DATE:20260619
DTEND;VALUE=DATE:20260622
DTSTAMP:20260424T072818
CREATED:20231108T030420Z
LAST-MODIFIED:20251105T203321Z
UID:4516-1781827200-1782086399@johnnygreaves.com
SUMMARY:FCP Crandon Brush Run
DESCRIPTION:
URL:https://johnnygreaves.com/event/31st-fcp-crandon-brush-run/
LOCATION:Crandon International Raceway\, 10104 Old Hwy 8 Rd\, Crandon\, WI\, United States
CATEGORIES:2026 Race Schedule
ATTACH;FMTTYPE=image/png:https://johnnygreaves.com/wp-content/uploads/2025/01/2026_COR_SCHEDULE_TILE_03_CRANDON.png
END:VEVENT
BEGIN:VEVENT
DTSTART;VALUE=DATE:20260710
DTEND;VALUE=DATE:20260713
DTSTAMP:20260424T072818
CREATED:20231106T235552Z
LAST-MODIFIED:20251105T203239Z
UID:4501-1783641600-1783900799@johnnygreaves.com
SUMMARY:ERX Off-Road National
DESCRIPTION:
URL:https://johnnygreaves.com/event/erx-off-road-national-3/
LOCATION:ERX Motor Park\, 21591 US-169\, Elk River\, MN\, 55330\, United States
CATEGORIES:2026 Race Schedule
ATTACH;FMTTYPE=image/png:https://johnnygreaves.com/wp-content/uploads/2025/01/2026_COR_SCHEDULE_TILE_04_ERX.png
END:VEVENT
BEGIN:VEVENT
DTSTART;VALUE=DATE:20260724
DTEND;VALUE=DATE:20260727
DTSTAMP:20260424T072818
CREATED:20221116T150306Z
LAST-MODIFIED:20251105T203150Z
UID:4155-1784851200-1785110399@johnnygreaves.com
SUMMARY:Dirt City MotorPlex Off-Road National
DESCRIPTION:
URL:https://johnnygreaves.com/event/dirt-city-motorplex-off-road-national-2/
LOCATION:Dirt City Motorplex\, 414 E Main St\, Lena\, WI\, 54139\, United States
CATEGORIES:2026 Race Schedule
ATTACH;FMTTYPE=image/png:https://johnnygreaves.com/wp-content/uploads/2025/01/2026_COR_SCHEDULE_TILE_05_DIRT_CITY.png
END:VEVENT
BEGIN:VEVENT
DTSTART;VALUE=DATE:20260814
DTEND;VALUE=DATE:20260817
DTSTAMP:20260424T072818
CREATED:20231108T033941Z
LAST-MODIFIED:20251105T203102Z
UID:4531-1786665600-1786924799@johnnygreaves.com
SUMMARY:Off-Road Rumble in the U.P.
DESCRIPTION:
URL:https://johnnygreaves.com/event/off-road-rumble-in-the-u-p-2/
LOCATION:Bark River International Raceway\, 3731 D Rd\, Bark River\, MI\, 49807\, United States
CATEGORIES:2026 Race Schedule
ATTACH;FMTTYPE=image/png:https://johnnygreaves.com/wp-content/uploads/2025/01/2026_COR_SCHEDULE_TILE_06_BARK_RIVER.png
END:VEVENT
BEGIN:VEVENT
DTSTART;VALUE=DATE:20260904
DTEND;VALUE=DATE:20260907
DTSTAMP:20260424T072818
CREATED:20231108T034223Z
LAST-MODIFIED:20251105T203004Z
UID:4533-1788480000-1788739199@johnnygreaves.com
SUMMARY:Polaris Crandon World Championships
DESCRIPTION:
URL:https://johnnygreaves.com/event/55th-polaris-crandon-world-championships/
LOCATION:Crandon International Raceway\, 10104 Old Hwy 8 Rd\, Crandon\, WI\, United States
CATEGORIES:2026 Race Schedule
ATTACH;FMTTYPE=image/png:https://johnnygreaves.com/wp-content/uploads/2025/01/2026_COR_SCHEDULE_TILE_07_CRANDON.png
END:VEVENT
BEGIN:VEVENT
DTSTART;VALUE=DATE:20260925
DTEND;VALUE=DATE:20260927
DTSTAMP:20260424T072818
CREATED:20250102T135244Z
LAST-MODIFIED:20251105T202828Z
UID:4901-1790294400-1790467199@johnnygreaves.com
SUMMARY:Glen Helen Off-Road National
DESCRIPTION:
URL:https://johnnygreaves.com/event/glen-helen-off-road-national/
LOCATION:Glen Helen Raceway\, Glen Helen Raceway 18585 Verdemont Ranch Rd\, San Bernardino\, CA\, 92407\, United States
CATEGORIES:2026 Race Schedule
ATTACH;FMTTYPE=image/png:https://johnnygreaves.com/wp-content/uploads/2025/01/2026_COR_SCHEDULE_TILE_08_GLEN_HELEN.png
END:VEVENT
END:VCALENDAR